BEGIN:VCALENDAR
VERSION:2.0
PRODID:-//Vosges Nature Environnement - ECPv6.15.20//NONSGML v1.0//EN
CALSCALE:GREGORIAN
METHOD:PUBLISH
X-ORIGINAL-URL:https://www.vne88.fr
X-WR-CALDESC:Évènements pour Vosges Nature Environnement
REFRESH-INTERVAL;VALUE=DURATION:PT1H
X-Robots-Tag:noindex
X-PUBLISHED-TTL:PT1H
BEGIN:VTIMEZONE
TZID:Europe/Paris
BEGIN:DAYLIGHT
TZOFFSETFROM:+0100
TZOFFSETTO:+0200
TZNAME:CEST
DTSTART:20230326T010000
END:DAYLIGHT
BEGIN:STANDARD
TZOFFSETFROM:+0200
TZOFFSETTO:+0100
TZNAME:CET
DTSTART:20231029T010000
END:STANDARD
BEGIN:DAYLIGHT
TZOFFSETFROM:+0100
TZOFFSETTO:+0200
TZNAME:CEST
DTSTART:20240331T010000
END:DAYLIGHT
BEGIN:STANDARD
TZOFFSETFROM:+0200
TZOFFSETTO:+0100
TZNAME:CET
DTSTART:20241027T010000
END:STANDARD
BEGIN:DAYLIGHT
TZOFFSETFROM:+0100
TZOFFSETTO:+0200
TZNAME:CEST
DTSTART:20250330T010000
END:DAYLIGHT
BEGIN:STANDARD
TZOFFSETFROM:+0200
TZOFFSETTO:+0100
TZNAME:CET
DTSTART:20251026T010000
END:STANDARD
END:VTIMEZONE
BEGIN:VEVENT
DTSTART;TZID=Europe/Paris:20240427T140000
DTEND;TZID=Europe/Paris:20240427T170000
DTSTAMP:20260422T134523
CREATED:20240412T091746Z
LAST-MODIFIED:20240412T145723Z
UID:2408-1714226400-1714237200@www.vne88.fr
SUMMARY:Conférence ORE à Remiremont
DESCRIPTION:A l’initiative du collectif de Nous voulons des Coquelicots et de Nous Voulons des Paysans des Hautes Vosges\, rejoints par diverses associations\, venez assister à la conférence sur l’Obligation Réelle Environnementale le 27 avril au Centre des Congrès de Remiremont. La conférence sera tenue par Me Hartenstein\, notaire à Metzervisse\, en Moselle.\nRetrouvez ICI notre article sur l’Obligation Réelle Environnementale.\nNous vous remercions d’ores et déjà pour votre participation dont nous serions très heureux.\nA noter que M. Hartenstein fait la conférence par conviction\, gracieusement\, sans demander aucun dédommagement.\nPour votre information\, les partenaires qui ont répondu présents sont les suivants : \nLe CEN (Conservatoire des Espaces Naturels)\, le GAB 88 (Groupement des agriculteurs Bio des Vosges)\, « Il est encore temps en Déodatie »\, Oiseaux Nature\, PECH (Préservons l’environnement du Col des Hayes)\, VNE (Vosges Nature Environnement). \nTous les élus de notre territoire ont été conviés à cette conférence.\n  \n  \n \n 
URL:https://www.vne88.fr/event/conference-ore/
LOCATION:Centre des Congrès de Remiremont\, 1 Place du Champ de Mars\, remiremont\, 88200\, France
ATTACH;FMTTYPE=image/jpeg:https://www.vne88.fr/wp-content/uploads/2024/03/ORE-Affiche-240411_Vfin.jpg
END:VEVENT
END:VCALENDAR